BEGIN:VCALENDAR
VERSION:2.0
PRODID:-//wp-events-plugin.com//7.2.3.1//EN
BEGIN:VEVENT
UID:38@ondernemendwyck.nl
DTSTART:20240622T100000Z
DTEND:20240622T234500Z
DTSTAMP:20240515T094012Z
URL:https://ondernemendwyck.nl/events/route-du-soleil-2/
SUMMARY:Route du Soleil
DESCRIPTION:Op 22 juni vind voorlopig de laatste editie plaats van dit zome
 rfeest voor Wyck. Projectmanager Solange Jungschleger (info@wyck.nl) is vo
 lop bezig met de voorbereiding van dit event. Stratenplannen worden gemaak
 t\, vergunning aangevraagd\, etc.\n\n&nbsp\;\n\n
END:VEVENT
END:VCALENDAR