BEGIN:VCALENDAR
VERSION:2.0
PRODID:-//wp-events-plugin.com//7.2.3.1//EN
BEGIN:VEVENT
UID:13@ondernemendwyck.nl
DTSTART;TZID=Europe/Amsterdam:20230621T090000
DTEND;TZID=Europe/Amsterdam:20230621T100000
DTSTAMP:20230608T121305Z
URL:https://ondernemendwyck.nl/events/extra-alv-vaststellen-statuten-onder
 nemend-wyck-alleen-leden/
SUMMARY:Extra ALV Vaststellen Statuten Ondernemend Wyck (alleen leden)
DESCRIPTION:\n\nEr wordt een extra ALV vergadering ingepland voor het vasts
 tellen van de statuten.\nDe bijzondere ALV van 7 juni had niet het vereist
 e quorum om een beslissing te nemen inzake de vernieuwde statuten. Er komt
  een tweede vergadering op 21 juni om 09.00 uur in Designhotel Maastricht
  – Stationsstraat 40. Je bent van harte welkom om te stemmen over de v
 ernieuwde statuten. Zie: https://ondernemendwyck.nl/wp-content/uploads/20
 23/05/Statutenwijziging-OW-concept-d.d.-juni-2023.pdf. Meld je aan voor de
 ze vergadering via: secretariaat@ondernemendwyck.nl\nLees hier het concep
 tverslag van 7 juni jl.\n
END:VEVENT
BEGIN:VTIMEZONE
TZID:Europe/Amsterdam
X-LIC-LOCATION:Europe/Amsterdam
BEGIN:DAYLIGHT
DTSTART:20230326T030000
TZOFFSETFROM:+0100
TZOFFSETTO:+0200
TZNAME:CEST
END:DAYLIGHT
END:VTIMEZONE
END:VCALENDAR