BEGIN:VCALENDAR
VERSION:2.0
PRODID:-//wp-events-plugin.com//7.2.3.1//EN
BEGIN:VEVENT
UID:53@ondernemendwyck.nl
DTSTART;TZID=Europe/Amsterdam:20250326T183000
DTEND;TZID=Europe/Amsterdam:20250326T210000
DTSTAMP:20250218T101147Z
URL:https://ondernemendwyck.nl/events/algemene-ledenvergadering-ondernemen
 d-wyck-2/
SUMMARY:Algemene Ledenvergadering Ondernemend Wyck
DESCRIPTION:\n\nAlgemene Ledenvergadering Ondernemend Wyck alleen voor lede
 n\, bij Designhotel Stationsstraat 40 Wyck\n\nKom naar de Algemene Ledenve
 rgadering op 26 maart 2025. Praat mee en beslis mee. Wat staat er op de p
 lanning voor 2025? Wat is de status van de diverse dossiers? Welke nieuwe
  aspirant-bestuursleden zijn er?  Versterk je netwerk. De vergadering is 
 alleen maar toegankelijk voor leden. Ben je dat nog niet meld je dan aan 
 als lid van Ondernemend Wyck. Meld je ook aan voor de Algemene ledenverga
 dering in verband met de catering.\nDe benodigde stukken worden t.z.t. toe
 gestuurd  secretariaat@ondernemendwyck.nl.\n\nDe vergadering begint om 1
 8.30 uur.\nLocatie: Leonardo Boutique Hotel Maastricht\, Stationsstraat 40
LOCATION:http://www.leonardo-hotels.nl
END:VEVENT
BEGIN:VTIMEZONE
TZID:Europe/Amsterdam
X-LIC-LOCATION:Europe/Amsterdam
BEGIN:STANDARD
DTSTART:20241027T020000
TZOFFSETFROM:+0200
TZOFFSETTO:+0100
TZNAME:CET
END:STANDARD
END:VTIMEZONE
END:VCALENDAR